BEGIN:VCALENDAR
VERSION:2.0
PRODID:-//Tukios.com/
BEGIN:VEVENT
UID:1de8b94b-cb9c-4132-a38c-ffe3f28a416c@www.bighammortuary.com
DTSTAMP:20260421T195817Z
DTSTART:20260421T180000Z
DTEND:20260421T183000Z
SUMMARY:Bed of Rest
DESCRIPTION:Private Burial
URL:https://www.bighammortuary.com/obituaries/betty-loyd-95
LOCATION: McCann St.  Longview TX 75601
GEO:32.5422873;-94.7542329
END:VEVENT
END:VCALENDAR